BEGIN:VCALENDAR
VERSION:2.0
PRODID:-//Squarespace Inc/Squarespace 6//v6//EN
BEGIN:VEVENT
UID:5455affae4b0d454767f872c@squarespace.com
DTSTAMP:20141102T041659Z
DTSTART:20141109T000000Z
DTEND:20141109T020000Z
SUMMARY:Sunday morning service
END:VEVENT
END:VCALENDAR
