BEGIN:VCALENDAR
VERSION:2.0
PRODID:-//Squarespace Inc/Squarespace 6//v6//EN
BEGIN:VEVENT
UID:55867882e4b00c797d1ee5e0@squarespace.com
DTSTAMP:20150621T084224Z
DTSTART:20150705T010000Z
DTEND:20150705T030000Z
SUMMARY:Sunday Morning Service
END:VEVENT
END:VCALENDAR
