BEGIN:VCALENDAR
VERSION:2.0
PRODID:-//Squarespace Inc/Squarespace 6//v6//EN
BEGIN:VEVENT
UID:5c9b4efeb208fca72a8e1cca@squarespace.com
DTSTAMP:20190327T102742Z
DTSTART:20190405T083000Z
DTEND:20190405T103000Z
SUMMARY:Prayer Meeting &amp\; Bible Study (Derrimut)
END:VEVENT
END:VCALENDAR
