BEGIN:VCALENDAR
VERSION:2.0
PRODID:-//Squarespace Inc/Squarespace 6//v6//EN
BEGIN:VEVENT
UID:58848317bf629a055aed87ec@squarespace.com
DTSTAMP:20170122T100216Z
DTSTART:20170304T230000Z
DTEND:20170305T000000Z
SUMMARY:Sunday Morning Service
END:VEVENT
END:VCALENDAR
