BEGIN:VCALENDAR
VERSION:2.0
PRODID:-//Squarespace Inc/Squarespace 6//v6//EN
BEGIN:VEVENT
UID:58847b93b8a79be56f3bd79a@squarespace.com
DTSTAMP:20170122T093717Z
DTSTART:20170204T230000Z
DTEND:20170205T010000Z
SUMMARY:Sunday Morning Service
END:VEVENT
END:VCALENDAR
