BEGIN:VCALENDAR
VERSION:2.0
PRODID:-//Squarespace Inc/Squarespace 6//v6//EN
BEGIN:VEVENT
UID:5617546fe4b0a82f03029e0e@squarespace.com
DTSTAMP:20151009T054644Z
DTSTART:20151010T233000Z
DTEND:20151011T010000Z
SUMMARY:Sunday Morning Service
END:VEVENT
END:VCALENDAR
