BEGIN:VCALENDAR
VERSION:2.0
PRODID:-//Squarespace Inc/Squarespace 6//v6//EN
BEGIN:VEVENT
UID:5c9b4ddfa4222f7b6964184e@squarespace.com
DTSTAMP:20190327T101853Z
DTSTART:20190330T230000Z
DTEND:20190331T010000Z
SUMMARY:Sunday Worship Service
END:VEVENT
END:VCALENDAR
