BEGIN:VCALENDAR
VERSION:2.0
PRODID:-//Squarespace Inc/Squarespace 6//v6//EN
BEGIN:VEVENT
UID:5455b07ae4b05f825492fa36@squarespace.com
DTSTAMP:20141102T041823Z
DTSTART:20141130T000000Z
DTEND:20141130T020000Z
SUMMARY:Sunday morning service
END:VEVENT
END:VCALENDAR
