BEGIN:VCALENDAR
VERSION:2.0
PRODID:-//Squarespace Inc/Squarespace 6//v6//EN
BEGIN:VEVENT
UID:55867995e4b04b4d3bb9b252@squarespace.com
DTSTAMP:20150621T084653Z
DTSTART:20150703T080000Z
DTEND:20150703T135900Z
SUMMARY:Bonfire fellowship singalong 
END:VEVENT
END:VCALENDAR
