BEGIN:VCALENDAR
VERSION:2.0
PRODID:-//Squarespace Inc/Squarespace 6//v6//EN
BEGIN:VEVENT
UID:5c9b4e8eeef1a1e10be295a8@squarespace.com
DTSTAMP:20190327T102712Z
DTSTART:20190403T083000Z
DTEND:20190403T100000Z
SUMMARY:Prayer Meeting &amp\; Bible Study (Church &amp\; Werribee)
END:VEVENT
END:VCALENDAR
