BEGIN:VCALENDAR
VERSION:2.0
PRODID:-//Squarespace Inc/Squarespace 6//v6//EN
BEGIN:VEVENT
UID:58847b57d482e9d5793a9a61@squarespace.com
DTSTAMP:20170122T093707Z
DTSTART:20170128T230000Z
DTEND:20170129T010000Z
SUMMARY:Sunday Morning Service
END:VEVENT
END:VCALENDAR
