BEGIN:VCALENDAR
VERSION:2.0
PRODID:-//Squarespace Inc/Squarespace 6//v6//EN
BEGIN:VEVENT
UID:55867851e4b0549179940e70@squarespace.com
DTSTAMP:20150621T084016Z
DTSTART:20150628T010000Z
DTEND:20150628T030000Z
SUMMARY:Sunday Morning Service
END:VEVENT
END:VCALENDAR
