BEGIN:VCALENDAR
VERSION:2.0
PRODID:-//Squarespace Inc/Squarespace 6//v6//EN
BEGIN:VEVENT
UID:588482c4f5e2313533f15cbd@squarespace.com
DTSTAMP:20170122T100120Z
DTSTART:20170326T070000Z
DTEND:20170326T090000Z
SUMMARY:Sacred Marriage study part #4
GEO:-37.748662;144.716294
LOCATION:1430 Western Highway\, Rockbank\, VIC\, Australia
END:VEVENT
END:VCALENDAR
