BEGIN:VCALENDAR
VERSION:2.0
PRODID:-//Squarespace Inc/Squarespace 6//v6//EN
BEGIN:VEVENT
UID:58847bdb20099ed871b9cb96@squarespace.com
DTSTAMP:20170122T093735Z
DTSTART:20170225T230000Z
DTEND:20170226T000000Z
SUMMARY:Sunday Morning Service
END:VEVENT
END:VCALENDAR
