BEGIN:VCALENDAR
VERSION:2.0
PRODID:-//Squarespace Inc/Squarespace 6//v6//EN
BEGIN:VEVENT
UID:5455b063e4b0b89000d6e8fb@squarespace.com
DTSTAMP:20141102T041751Z
DTSTART:20141123T000000Z
DTEND:20141123T020000Z
SUMMARY:Sunday morning service
END:VEVENT
END:VCALENDAR
