BEGIN:VCALENDAR
VERSION:2.0
PRODID:-//Squarespace Inc/Squarespace 6//v6//EN
BEGIN:VEVENT
UID:5884828b8419c2220e081252@squarespace.com
DTSTAMP:20170122T100023Z
DTSTART:20170319T070000Z
DTEND:20170319T090000Z
SUMMARY:Sacred Marriage study part #3
GEO:-37.748662;144.716294
LOCATION:1430 Western Highway\, Rockbank\, Vic\, Australia
END:VEVENT
END:VCALENDAR
