BEGIN:VCALENDAR
VERSION:2.0
PRODID:-//Squarespace Inc/Squarespace 6//v6//EN
BEGIN:VEVENT
UID:557d2465e4b0c6af002b9726@squarespace.com
DTSTAMP:20150614T065149Z
DTSTART:20150621T000000Z
DTEND:20150621T010000Z
SUMMARY:Children's Sunday School
END:VEVENT
END:VCALENDAR
