BEGIN:VCALENDAR
VERSION:2.0
PRODID:-//Squarespace Inc/Squarespace 6//v6//EN
BEGIN:VEVENT
UID:5365bd69e4b0b2200beba79b@squarespace.com
DTSTAMP:20140504T040919Z
DTSTART:20140608T010000Z
DTEND:20140608T030000Z
SUMMARY:Sunday morning service
END:VEVENT
END:VCALENDAR
