BEGIN:VCALENDAR
VERSION:2.0
PRODID:-//Squarespace Inc/Squarespace 6//v6//EN
BEGIN:VEVENT
UID:5365bf6fe4b0fa08ee9e1173@squarespace.com
DTSTAMP:20140504T041757Z
DTSTART:20140608T070000Z
DTEND:20140608T080000Z
SUMMARY:Fundamentals of the Faith bible study
END:VEVENT
END:VCALENDAR
