BEGIN:VCALENDAR
VERSION:2.0
PRODID:-//Squarespace Inc/Squarespace 6//v6//EN
BEGIN:VEVENT
UID:5365bdd0e4b05a1adcd122ea@squarespace.com
DTSTAMP:20140504T041104Z
DTSTART:20140603T093000Z
DTEND:20140603T103000Z
SUMMARY:Weekly prayer meeting
END:VEVENT
END:VCALENDAR
