BEGIN:VCALENDAR
VERSION:2.0
PRODID:-//Squarespace Inc/Squarespace 6//v6//EN
BEGIN:VEVENT
UID:539714b4e4b019e393387c9b@squarespace.com
DTSTAMP:20140610T142256Z
DTSTART:20140629T010000Z
DTEND:20140629T030000Z
SUMMARY:Sunday morning service
END:VEVENT
END:VCALENDAR
