BEGIN:VCALENDAR
VERSION:2.0
PRODID:-//Squarespace Inc/Squarespace 6//v6//EN
BEGIN:VEVENT
UID:5397145de4b019e393387bf0@squarespace.com
DTSTAMP:20140610T142139Z
DTSTART:20140629T070000Z
DTEND:20140629T080000Z
SUMMARY:Fundamentals of the Faith bible study
END:VEVENT
END:VCALENDAR
