BEGIN:VCALENDAR
VERSION:2.0
PRODID:-//Squarespace Inc/Squarespace 6//v6//EN
BEGIN:VEVENT
UID:539713fbe4b028c25b5402d0@squarespace.com
DTSTAMP:20140610T141956Z
DTSTART:20140624T093000Z
DTEND:20140624T103000Z
SUMMARY:Weekly prayer meeting
END:VEVENT
END:VCALENDAR
