BEGIN:VCALENDAR
VERSION:2.0
PRODID:-//Squarespace Inc/Squarespace 6//v6//EN
BEGIN:VEVENT
UID:5397149be4b019e393387c66@squarespace.com
DTSTAMP:20140610T142235Z
DTSTART:20140622T010000Z
DTEND:20140622T030000Z
SUMMARY:Sunday morning service
END:VEVENT
END:VCALENDAR
