BEGIN:VCALENDAR
VERSION:2.0
PRODID:-//Squarespace Inc/Squarespace 6//v6//EN
BEGIN:VEVENT
UID:53971448e4b019e393387bb9@squarespace.com
DTSTAMP:20140610T142108Z
DTSTART:20140622T070000Z
DTEND:20140622T080000Z
SUMMARY:Fundamentals of the Faith bible study
END:VEVENT
END:VCALENDAR
