BEGIN:VCALENDAR
VERSION:2.0
PRODID:-//Squarespace Inc/Squarespace 6//v6//EN
BEGIN:VEVENT
UID:539714dfe4b028c25b540484@squarespace.com
DTSTAMP:20140610T142336Z
DTSTART:20140622T000000Z
DTEND:20140622T010000Z
SUMMARY:Children's Sunday School
END:VEVENT
END:VCALENDAR
