BEGIN:VCALENDAR
VERSION:2.0
PRODID:-//Squarespace Inc/Squarespace 6//v6//EN
BEGIN:VEVENT
UID:539713e8e4b0e865a5d18f4d@squarespace.com
DTSTAMP:20140610T141930Z
DTSTART:20140617T093000Z
DTEND:20140617T103000Z
SUMMARY:Weekly prayer meeting
END:VEVENT
END:VCALENDAR
