BEGIN:VCALENDAR
VERSION:2.0
PRODID:-//Squarespace Inc/Squarespace 6//v6//EN
BEGIN:VEVENT
UID:53971487e4b019e393387c37@squarespace.com
DTSTAMP:20140610T142211Z
DTSTART:20140615T010000Z
DTEND:20140615T030000Z
SUMMARY:Sunday morning service
END:VEVENT
END:VCALENDAR
