BEGIN:VCALENDAR
VERSION:2.0
PRODID:-//Squarespace Inc/Squarespace 6//v6//EN
BEGIN:VEVENT
UID:539714cfe4b019e393387cc8@squarespace.com
DTSTAMP:20140610T142318Z
DTSTART:20140615T000000Z
DTEND:20140615T010000Z
SUMMARY:Children's Sunday School
END:VEVENT
END:VCALENDAR
