BEGIN:VCALENDAR
VERSION:2.0
PRODID:-//Squarespace Inc/Squarespace 6//v6//EN
BEGIN:VEVENT
UID:5365bde6e4b06e5928c0f7a8@squarespace.com
DTSTAMP:20140504T041118Z
DTSTART:20140610T093000Z
DTEND:20140610T103000Z
SUMMARY:Weekly prayer meeting
END:VEVENT
END:VCALENDAR
