BEGIN:VCALENDAR
VERSION:2.0
PRODID:-//Squarespace Inc/Squarespace 6//v6//EN
BEGIN:VEVENT
UID:5365bd2de4b09805d5655285@squarespace.com
DTSTAMP:20140504T040900Z
DTSTART:20140601T010000Z
DTEND:20140601T030000Z
SUMMARY:Sunday morning service
END:VEVENT
END:VCALENDAR
