BEGIN:VCALENDAR
VERSION:2.0
PRODID:-//Squarespace Inc/Squarespace 6//v6//EN
BEGIN:VEVENT
UID:5365bf38e4b0d727dcd0380f@squarespace.com
DTSTAMP:20140504T041736Z
DTSTART:20140601T070000Z
DTEND:20140601T080000Z
SUMMARY:Fundamentals of the Faith bible study
END:VEVENT
END:VCALENDAR
