BEGIN:VCALENDAR
VERSION:2.0
PRODID:-//Squarespace Inc/Squarespace 6//v6//EN
BEGIN:VEVENT
UID:5365bd86e4b03d7703d315ec@squarespace.com
DTSTAMP:20140504T040951Z
DTSTART:20140506T093000Z
DTEND:20140506T103000Z
SUMMARY:Weekly prayer meeting
END:VEVENT
END:VCALENDAR
