BEGIN:VCALENDAR
VERSION:2.0
PRODID:-//Squarespace Inc/Squarespace 6//v6//EN
BEGIN:VEVENT
UID:5365bdbee4b05a1adcd122df@squarespace.com
DTSTAMP:20140504T041042Z
DTSTART:20140527T093000Z
DTEND:20140527T103000Z
SUMMARY:Weekly prayer meeting
END:VEVENT
END:VCALENDAR
