BEGIN:VCALENDAR
VERSION:2.0
PRODID:-//Squarespace Inc/Squarespace 6//v6//EN
BEGIN:VEVENT
UID:5365bd19e4b0cbe1c025baca@squarespace.com
DTSTAMP:20140504T040853Z
DTSTART:20140525T010000Z
DTEND:20140525T030000Z
SUMMARY:Sunday morning service
END:VEVENT
END:VCALENDAR
