BEGIN:VCALENDAR
VERSION:2.0
PRODID:-//Squarespace Inc/Squarespace 6//v6//EN
BEGIN:VEVENT
UID:5365bf24e4b05c2e83750c1f@squarespace.com
DTSTAMP:20140504T041727Z
DTSTART:20140525T070000Z
DTEND:20140525T080000Z
SUMMARY:Fundamentals of the Faith bible study
END:VEVENT
END:VCALENDAR
