BEGIN:VCALENDAR
VERSION:2.0
PRODID:-//Squarespace Inc/Squarespace 6//v6//EN
BEGIN:VEVENT
UID:5365bdafe4b03d7703d315fc@squarespace.com
DTSTAMP:20140504T041025Z
DTSTART:20140520T093000Z
DTEND:20140520T103000Z
SUMMARY:Weekly prayer meeting
END:VEVENT
END:VCALENDAR
