BEGIN:VCALENDAR
VERSION:2.0
PRODID:-//Squarespace Inc/Squarespace 6//v6//EN
BEGIN:VEVENT
UID:5365bf0ee4b05c2e83750c0e@squarespace.com
DTSTAMP:20140504T041719Z
DTSTART:20140518T070000Z
DTEND:20140518T080000Z
SUMMARY:Fundamentals of the Faith bible study
END:VEVENT
END:VCALENDAR
