BEGIN:VCALENDAR
VERSION:2.0
PRODID:-//Squarespace Inc/Squarespace 6//v6//EN
BEGIN:VEVENT
UID:5365bd9ee4b0a552a29753d0@squarespace.com
DTSTAMP:20140504T041010Z
DTSTART:20140513T093000Z
DTEND:20140513T103000Z
SUMMARY:Weekly prayer meeting
END:VEVENT
END:VCALENDAR
