BEGIN:VCALENDAR
VERSION:2.0
PRODID:-//Squarespace Inc/Squarespace 6//v6//EN
BEGIN:VEVENT
UID:5370ab11e4b0312f084687e3@squarespace.com
DTSTAMP:20140512T111046Z
DTSTART:20140607T080000Z
DTEND:20140607T110000Z
SUMMARY:Meet and hear from Stan The Man Longinidis!!
END:VEVENT
END:VCALENDAR
