BEGIN:VCALENDAR
VERSION:2.0
PRODID:-//Squarespace Inc/Squarespace 6//v6//EN
BEGIN:VEVENT
UID:5427b348e4b0c458e6636e98@squarespace.com
DTSTAMP:20140928T070714Z
DTSTART:20141005T000000Z
DTEND:20141005T020000Z
SUMMARY:Sunday morning service
END:VEVENT
END:VCALENDAR
