BEGIN:VCALENDAR
VERSION:2.0
PRODID:-//Squarespace Inc/Squarespace 6//v6//EN
BEGIN:VEVENT
UID:5427b439e4b05b9e44aca37a@squarespace.com
DTSTAMP:20140928T071000Z
DTSTART:20141026T000000Z
DTEND:20141026T020000Z
SUMMARY:Sunday morning service
END:VEVENT
END:VCALENDAR
