BEGIN:VCALENDAR
VERSION:2.0
PRODID:-//Squarespace Inc/Squarespace 6//v6//EN
BEGIN:VEVENT
UID:5427b422e4b0c27751cd8fd5@squarespace.com
DTSTAMP:20141005T121027Z
DTSTART:20141019T000000Z
DTEND:20141019T020000Z
SUMMARY:Sunday morning service
END:VEVENT
END:VCALENDAR
