BEGIN:VCALENDAR
VERSION:2.0
PRODID:-//Squarespace Inc/Squarespace 6//v6//EN
BEGIN:VEVENT
UID:5427b3c7e4b0f39bff3257ba@squarespace.com
DTSTAMP:20141005T120924Z
DTSTART:20141012T000000Z
DTEND:20141012T020000Z
SUMMARY:Sunday morning service
END:VEVENT
END:VCALENDAR
