BEGIN:VCALENDAR
VERSION:2.0
PRODID:-//Squarespace Inc/Squarespace 6//v6//EN
BEGIN:VEVENT
UID:58848358a5790abf8b752c99@squarespace.com
DTSTAMP:20170122T100318Z
DTSTART:20170318T230000Z
DTEND:20170319T010000Z
SUMMARY:Sunday Morning Service
END:VEVENT
END:VCALENDAR
