BEGIN:VCALENDAR
VERSION:2.0
PRODID:-//Squarespace Inc/Squarespace 6//v6//EN
BEGIN:VEVENT
UID:58847c018419c2220e07f925@squarespace.com
DTSTAMP:20170211T030802Z
DTSTART:20170219T030000Z
DTEND:20170219T040000Z
SUMMARY:Living Springs Church Camp
END:VEVENT
END:VCALENDAR
