BEGIN:VCALENDAR
VERSION:2.0
PRODID:-//Squarespace Inc/Squarespace 6//v6//EN
BEGIN:VEVENT
UID:5455b04ce4b0e2ecd6c6ba42@squarespace.com
DTSTAMP:20141102T041730Z
DTSTART:20141116T000000Z
DTEND:20141116T020000Z
SUMMARY:Sunday morning service
END:VEVENT
END:VCALENDAR
