BEGIN:VCALENDAR
VERSION:2.0
PRODID:-//Squarespace Inc/Squarespace 6//v6//EN
BEGIN:VEVENT
UID:5574f10ae4b0cd9c4e0027ce@squarespace.com
DTSTAMP:20150608T014331Z
DTSTART:20150614T010000Z
DTEND:20150614T030000Z
SUMMARY:Sunday Morning Service
END:VEVENT
END:VCALENDAR
