BEGIN:VCALENDAR
VERSION:2.0
PRODID:-//Squarespace Inc/Squarespace 6//v6//EN
BEGIN:VEVENT
UID:5574f160e4b0551508cbd701@squarespace.com
DTSTAMP:20150608T014254Z
DTSTART:20150614T000000Z
DTEND:20150614T010000Z
SUMMARY:Children's Sunday School
END:VEVENT
END:VCALENDAR
