BEGIN:VCALENDAR
VERSION:2.0
PRODID:-//Squarespace Inc/Squarespace 6//v6//EN
BEGIN:VEVENT
UID:5598dc5ce4b01a6af58feb0d@squarespace.com
DTSTAMP:20150705T072758Z
DTSTART:20150712T010000Z
DTEND:20150712T030000Z
SUMMARY:Sunday Morning Service
END:VEVENT
END:VCALENDAR
